BEGIN:VCALENDAR
VERSION:2.0
PRODID:-//Library//Event Calendar//EN
CALSCALE:GREGORIAN
METHOD:PUBLISH
X-WR-CALNAME:Books & Tea
X-WR-TIMEZONE:America/New_York
BEGIN:VEVENT
UID:d1d11934-a21a-4104-a144-e73b2e24fa59-db09f705-e9f4-40dc-b988-cf95b7e466a7@library.example.org
DTSTAMP:20260421T120835Z
DTSTART:20250121T193000Z
DTEND:20250121T203000Z
SUMMARY:Books & Tea
DESCRIPTION:Join us for a monthly book discussion group. Tea and coffee wil
 l be served. We meet every 3rd Tuesday at 2:30 p.m.\\n\\nRegistration requ
 ired: https://mamakatinglibrary.org/registrations
LOCATION:Community Room
CATEGORIES:Adult Programs,Books & Collections
STATUS:CONFIRMED
END:VEVENT
BEGIN:VEVENT
UID:d1d11934-a21a-4104-a144-e73b2e24fa59-660991e0-a8f1-44f0-b590-c73c435c5f66@library.example.org
DTSTAMP:20260421T120835Z
DTSTART:20250415T183000Z
DTEND:20250415T193000Z
SUMMARY:Books & Tea
DESCRIPTION:Join us for a monthly book discussion group. Tea and coffee wil
 l be served. We meet every 3rd Tuesday at 2:30 p.m.\\n\\nRegistration requ
 ired: https://mamakatinglibrary.org/registrations
LOCATION:Community Room
CATEGORIES:Adult Programs,Books & Collections
STATUS:CONFIRMED
END:VEVENT
BEGIN:VEVENT
UID:d1d11934-a21a-4104-a144-e73b2e24fa59-68d8f9dd-ec88-4eb0-9b96-55850aa266bc@library.example.org
DTSTAMP:20260421T120835Z
DTSTART:20250715T183000Z
DTEND:20250715T193000Z
SUMMARY:Books & Tea
DESCRIPTION:Join us for a monthly book discussion group. Tea and coffee wil
 l be served. We meet every 3rd Tuesday at 2:30 p.m.\\n\\nRegistration requ
 ired: https://mamakatinglibrary.org/registrations
LOCATION:Community Room
CATEGORIES:Adult Programs,Books & Collections
STATUS:CONFIRMED
END:VEVENT
BEGIN:VEVENT
UID:d1d11934-a21a-4104-a144-e73b2e24fa59-fad5937e-e3ab-49d5-8738-aa909719677c@library.example.org
DTSTAMP:20260421T120835Z
DTSTART:20250916T183000Z
DTEND:20250916T193000Z
SUMMARY:Books & Tea
DESCRIPTION:Join us for a monthly book discussion group. Tea and coffee wil
 l be served. We meet every 3rd Tuesday at 2:30 p.m.\\n\\nRegistration requ
 ired: https://mamakatinglibrary.org/registrations
LOCATION:Community Room
CATEGORIES:Adult Programs,Books & Collections
STATUS:CONFIRMED
END:VEVENT
BEGIN:VEVENT
UID:d1d11934-a21a-4104-a144-e73b2e24fa59-e9515c2a-6445-4c29-b21b-aeed336acd68@library.example.org
DTSTAMP:20260421T120835Z
DTSTART:20260324T183000Z
DTEND:20260324T200000Z
SUMMARY:Books & Tea
DESCRIPTION:Join us for a monthly book discussion group. Tea and coffee wil
 l be served. We meet every 3rd Tuesday at 2:30 p.m.\\n\\nRegistration requ
 ired: https://mamakatinglibrary.org/registrations
LOCATION:Community Room
CATEGORIES:Adult Programs,Books & Collections
STATUS:CONFIRMED
END:VEVENT
BEGIN:VEVENT
UID:d1d11934-a21a-4104-a144-e73b2e24fa59-30412b84-cc61-4b35-a3ca-a44cb4adc87f@library.example.org
DTSTAMP:20260421T120835Z
DTSTART:20260421T183000Z
DTEND:20260421T200000Z
SUMMARY:Books & Tea
DESCRIPTION:Join us for a monthly book discussion group. Tea and coffee wil
 l be served. We meet every 3rd Tuesday at 2:30 p.m.\\n\\nNote: April's boo
 k: The Stolen Life of Colette Marceau by Kristin Harmel\\n\\nRegistration 
 required: https://mamakatinglibrary.org/registrations
LOCATION:Community Room
CATEGORIES:Adult Programs,Books & Collections
STATUS:CONFIRMED
END:VEVENT
END:VCALENDAR