BEGIN:VCALENDAR
VERSION:2.0
PRODID:-//Library//Event Calendar//EN
CALSCALE:GREGORIAN
METHOD:PUBLISH
X-WR-CALNAME:Sci-Fi w/ the Science Guy
X-WR-TIMEZONE:America/New_York
BEGIN:VEVENT
UID:3fd76049-aafa-4099-a3ad-d54dc91cf6c1-433cd65d-024d-40da-be5f-320a21bd1ac3@library.example.org
DTSTAMP:20260423T084350Z
DTSTART:20260416T210000Z
DTEND:20260416T230000Z
SUMMARY:Sci-Fi w/ the Science Guy
DESCRIPTION:Join local scientist\, Lorry Green\, for a screening followed b
 y a short discussion.  Popcorn will be served.\\n\\nNote: Sci-Fi with the 
 Science Guy: The Creation of the Humanoids\\n\\nRegistration required: htt
 ps://mamakatinglibrary.org/registrations
LOCATION:Mamakating Library
CATEGORIES:Adult Programs,Community Events,Books & Collections,Year of the 
 Arts
STATUS:CONFIRMED
END:VEVENT
END:VCALENDAR